BEGIN:VCALENDAR
VERSION:2.0
PRODID:-//SeniorNet Rotorua (Inc) - ECPv4.6.24//NONSGML v1.0//EN
CALSCALE:GREGORIAN
METHOD:PUBLISH
X-WR-CALNAME:SeniorNet Rotorua (Inc)
X-ORIGINAL-URL:http://www.rotoruaseniornet.gen.nz
X-WR-CALDESC:Events for SeniorNet Rotorua (Inc)
BEGIN:VEVENT
DTSTART;VALUE=DATE:20190101
DTEND;VALUE=DATE:20190102
DTSTAMP:20181224T121228
CREATED:20180925T233603Z
LAST-MODIFIED:20181201T184059Z
UID:2025-1546300800-1546387199@www.rotoruaseniornet.gen.nz
SUMMARY:New Year's Day
DESCRIPTION:
URL:http://www.rotoruaseniornet.gen.nz/event/christmas-day-2/
END:VEVENT
END:VCALENDAR