BEGIN:VCALENDAR
VERSION:2.0
PRODID:-//SeniorNet Rotorua (Inc) - ECPv4.6.24//NONSGML v1.0//EN
CALSCALE:GREGORIAN
METHOD:PUBLISH
X-WR-CALNAME:SeniorNet Rotorua (Inc)
X-ORIGINAL-URL:http://www.rotoruaseniornet.gen.nz
X-WR-CALDESC:Events for SeniorNet Rotorua (Inc)
BEGIN:VEVENT
DTSTART;TZID=Pacific/Auckland:20190207T140000
DTEND;TZID=Pacific/Auckland:20190207T160000
DTSTAMP:20181224T121314
CREATED:20170528T095500Z
LAST-MODIFIED:20181201T185020Z
UID:2027-1549548000-1549555200@www.rotoruaseniornet.gen.nz
SUMMARY:Drop in - computers
DESCRIPTION:Open forum for your specific queries in relation to computers in general. \n
URL:http://www.rotoruaseniornet.gen.nz/event/drop-in-computers-5-2-2-2/
END:VEVENT
END:VCALENDAR