BEGIN:VCALENDAR
VERSION:2.0
PRODID:-//SeniorNet Rotorua (Inc) - ECPv4.6.24//NONSGML v1.0//EN
CALSCALE:GREGORIAN
METHOD:PUBLISH
X-WR-CALNAME:SeniorNet Rotorua (Inc)
X-ORIGINAL-URL:http://www.rotoruaseniornet.gen.nz
X-WR-CALDESC:Events for SeniorNet Rotorua (Inc)
BEGIN:VEVENT
DTSTART;TZID=Pacific/Auckland:20181127T100000
DTEND;TZID=Pacific/Auckland:20181127T120000
DTSTAMP:20181224T115834
CREATED:20180724T223346Z
LAST-MODIFIED:20181028T075346Z
UID:1951-1543312800-1543320000@www.rotoruaseniornet.gen.nz
SUMMARY:Tablet users group
DESCRIPTION:An on going workshop style focus group dealing with all aspects of using your tablet \n
URL:http://www.rotoruaseniornet.gen.nz/event/tablet-users-group-4-2-2/
ATTACH;FMTTYPE=image/jpeg:http://www.rotoruaseniornet.gen.nz/wp-content/uploads/2018/02/Andy-Gilbert-1copy-crop-final.jpg
END:VEVENT
BEGIN:VEVENT
DTSTART;TZID=Pacific/Auckland:20181130T140000
DTEND;TZID=Pacific/Auckland:20181130T160000
DTSTAMP:20181224T115834
CREATED:20170528T100013Z
LAST-MODIFIED:20181027T231517Z
UID:1928-1543586400-1543593600@www.rotoruaseniornet.gen.nz
SUMMARY:Tutors meeting
DESCRIPTION:Special version \nLibrary tech van will arrive at Regency Park 2.00 pm to familiarise tutors with its facilities. We may be involved with it next year.\nFollowed by a review of web site functionality and desired improvements. \n
URL:http://www.rotoruaseniornet.gen.nz/event/tutors-meeting-2-2-2/
END:VEVENT
BEGIN:VEVENT
DTSTART;TZID=Pacific/Auckland:20181203T090000
DTEND;TZID=Pacific/Auckland:20181203T120000
DTSTAMP:20181224T115834
CREATED:20180724T222208Z
LAST-MODIFIED:20181028T012730Z
UID:2004-1543827600-1543838400@www.rotoruaseniornet.gen.nz
SUMMARY:Drop in - Public event @Library
DESCRIPTION:A collaborative initiative between Senior Net and Rotorua Library. \nLocation:  Community meeting room\, Haupapa St corner of Library. Where the coffee shop used to be. \nFrom  09 -12 pm. \nEnquiries contact Keith at 07 357 2020 \nBring your own laptop\, tablet or smartphone. \nKoha appreciated. \n
URL:http://www.rotoruaseniornet.gen.nz/event/drop-in-public-event-library-3-2-2/
END:VEVENT
BEGIN:VEVENT
DTSTART;TZID=Pacific/Auckland:20181212T120000
DTEND;TZID=Pacific/Auckland:20181212T140000
DTSTAMP:20181224T115834
CREATED:20180925T233210Z
LAST-MODIFIED:20180925T233210Z
UID:1936-1544616000-1544623200@www.rotoruaseniornet.gen.nz
SUMMARY:Christmas Lunch
DESCRIPTION:
URL:http://www.rotoruaseniornet.gen.nz/event/christmas-lunch/
END:VEVENT
BEGIN:VEVENT
DTSTART;VALUE=DATE:20181225
DTEND;VALUE=DATE:20181226
DTSTAMP:20181224T115834
CREATED:20180925T233603Z
LAST-MODIFIED:20180925T233603Z
UID:1938-1545696000-1545782399@www.rotoruaseniornet.gen.nz
SUMMARY:Christmas Day
DESCRIPTION:
URL:http://www.rotoruaseniornet.gen.nz/event/christmas-day/
END:VEVENT
BEGIN:VEVENT
DTSTART;VALUE=DATE:20190101
DTEND;VALUE=DATE:20190102
DTSTAMP:20181224T115834
CREATED:20180925T233603Z
LAST-MODIFIED:20181201T184059Z
UID:2025-1546300800-1546387199@www.rotoruaseniornet.gen.nz
SUMMARY:New Year's Day
DESCRIPTION:
URL:http://www.rotoruaseniornet.gen.nz/event/christmas-day-2/
END:VEVENT
END:VCALENDAR